BEGIN:VCALENDAR
VERSION:2.0
PRODID:-//ChamberMaster//Event Calendar 2.0//EN
METHOD:PUBLISH
X-PUBLISHED-TTL:P3D
REFRESH-INTERVAL:P3D
CALSCALE:GREGORIAN
BEGIN:VEVENT
DTSTART:20200716T163000Z
DTEND:20200716T173000Z
X-MICROSOFT-CDO-ALLDAYEVENT:FALSE
SUMMARY:CEO Connect: Susan West Levine\, Lowell Community Health Center
DESCRIPTION:We are taking our original Young Professionals CEO Roundtable Event and making it virtual! This is a great opportunity to connect with community leaders. Come hear their inspiring stories and ask them a question (or two)!\n\n\n\nThis session features Susan West Levine\, CEO of Lowell Community Health Center.\nChief Executive Officer: Susan West Levine\, MPH- Previously a top advisor and chief of staff to the Johns Hopkins University Provost\, Ms. Levine brings more than 25 years of leadership experience in health care\, public health\, and higher education to her role. Prior to joining Johns Hopkins in 2014\, Ms. Levine served as Chief Executive of UHealthSolutions\, a nonprofit affiliate of the University of Massachusetts Medical School. Earlier in her career\, she held executive-level roles at UMass Medical School's consulting division\, Commonwealth Medicine\, and worked for the Massachusetts Department of Public Health for nearly a decade. Ms. Levine\, who holds a master's in public health focusing on health service\, says it was her early experience working in clinical\, administrative\, and ambulatory care programs for Lemuel Shattuck Hospital in Jamaica Plain\, Massachusetts\, that set her on this trajectory.\n\nThank you to our 2020 Platinum Sponsors Enterprise Bank\, Circle Health\, and Jeanne D'Arc Credit Union for making events\, like this one\, possible. \nThank you to Circle Health our 2020 Young Professionals sponsor.
X-ALT-DESC;FMTTYPE=text/html:<span style="font-size:14px\;"><span style="font-family:arial\;">We are taking our original Young Professionals CEO Roundtable Event and making it virtual! This is a great opportunity to connect with community leaders. Come hear their inspiring stories and ask them a question (or two)!<br />\n<br />\nThis session features Susan West Levine\, CEO of <a href="https://www.lchealth.org/">Lowell Community Health Center</a>.</span></span>\n<p style="margin-right: 0in\; margin-left: 0in\; font-size: 12pt\; font-family: &quot\;Times New Roman&quot\;\, serif\; color: rgb(32\, 31\, 30)\;"><span style="font-size:14px\;"><b><span lang="EN" style="margin: 0px\; padding: 0px\; border: 0px\; font-style: inherit\; font-variant: inherit\; font-weight: inherit\; font-stretch: inherit\; line-height: inherit\; font-family: inherit\; vertical-align: baseline\; color: inherit\;">Chief Executive Officer: Susan West Levine\, MPH</span></b><span lang="EN" style="margin: 0px\; padding: 0px\; border: 0px\; font-style: inherit\; font-variant: inherit\; font-weight: inherit\; font-stretch: inherit\; line-height: inherit\; font-family: inherit\; vertical-align: baseline\; color: inherit\;">- Previously a top advisor and chief of staff to the Johns Hopkins University Provost\, Ms. Levine brings more than 25 years of leadership experience in health care\, public health\, and higher education to her role. Prior to joining Johns Hopkins in 2014\, Ms. Levine served as Chief Executive of UHealthSolutions\, a nonprofit affiliate of the University of Massachusetts Medical School. Earlier in her career\, she held executive-level roles at UMass Medical School&rsquo\;s consulting division\, Commonwealth Medicine\, and worked for the Massachusetts Department of Public Health for nearly a decade. Ms. Levine\, who holds a master&rsquo\;s in public health focusing on health service\, says it was her early experience working in clinical\, administrative\, and ambulatory care programs for Lemuel Shattuck Hospital in Jamaica Plain\, Massachusetts\, that set her on this trajectory.</span></span></p>\n\n<p style="font-size: medium\;"><span style="font-size: 14px\;"><font color="#000000" style="font-family: arial\;">Thank you to our&nbsp\;</font></span><span style="font-family: arial\; color: rgb(51\, 51\, 51)\; font-size: 14px\;">2020 Platinum Sponsors&nbsp\;Enterprise Bank\, Circle Health\, and Jeanne D&#39\;Arc Credit Union&nbsp\;for making events\, like this one\, possible.&nbsp\;</span></p>\n<span style="font-size:14px\;"><span style="font-family:arial\;">Thank you to Circle Health our 2020 Young Professionals sponsor.</span></span>
LOCATION:
UID:e.554.4579
SEQUENCE:3
DTSTAMP:20260419T141655Z
URL:https://business.greaterlowellcc.org/events/details/ceo-connect-susan-west-levine-lowell-community-health-center-4579
END:VEVENT

END:VCALENDAR
