BEGIN:VCALENDAR
VERSION:2.0
PRODID:-//ChamberMaster//Event Calendar 2.0//EN
METHOD:PUBLISH
X-PUBLISHED-TTL:P3D
REFRESH-INTERVAL:P3D
CALSCALE:GREGORIAN
BEGIN:VEVENT
DTSTART:20200619T143000Z
DTEND:20200619T153000Z
X-MICROSOFT-CDO-ALLDAYEVENT:FALSE
SUMMARY:CEO Connect: Kevin Morrissey\, CEO of the Greater Lowell Family YMCA
DESCRIPTION:We are taking our original Young Professionals CEO Roundtable Event and making it virtual! This is a great opportunity to connect with community leaders. Come hear their inspiring stories and ask them a question (or two)!\n\n\n\nThis session features Kevin Morrissey\, CEO of the Greater Lowell Family YMCA.\n\n \n\nKevin graduated from Marietta College in 1998 with a Bachelor of Arts in Elementary Education and embarked on a lifelong career at various YMCAs from Charleston\, West Virginia to Bear\, Delaware before heading to Lowell in 2004 to become the Senior Program Director-Child Care at the Greater Lowell Family YMCA. Since 2004\, he's held various positions within the organization before landing the role as Chief Executive Officer in 2017. \n\n \n\n\n\nKevin sits on the board of the Department of Mental Health- Lowell Office and is an active member of the Association of YMCA Professionals. \n\n \n\n\n\nIn addition to his passion for the Greater Lowell Family YMCA\, Kevin (originally from Cleveland) has made Chelmsford his home thanks to marrying a self-proclaimed proud Chelmsford Townie. Kevin and his wife\, Tara\, have a 7-year-old\, Sydney.   \n\n\nThank you to our 2020 Platinum Sponsors Enterprise Bank\, Circle Health\, and Jeanne D'Arc Credit Union for making events\, like this one\, possible. \nThank you to Circle Health our 2020 Young Professionals sponsor.
X-ALT-DESC;FMTTYPE=text/html:<span style="font-size:14px\;"><span style="font-family:arial\;">We are taking our original Young Professionals CEO Roundtable Event and making it virtual! This is a great opportunity to connect with community leaders. Come hear their inspiring stories and ask them a question (or two)!<br />\n<br />\nThis session features Kevin Morrissey\, CEO of the Greater Lowell Family YMCA.</span></span><br />\n&nbsp\;\n<div style="margin: 0px\; padding: 0px\; border: 0px\; font-variant-numeric: inherit\; font-variant-east-asian: inherit\; font-stretch: inherit\; font-size: 12px\; line-height: inherit\; font-family: &quot\;Segoe UI&quot\;\, &quot\;Segoe UI Web&quot\;\, Arial\, Verdana\, sans-serif\; vertical-align: baseline\; color: rgb(0\, 0\, 0)\; user-select: text\; cursor: text\; clear: both\;">\n<p lang="EN-US" style="margin: 0px\; user-select: text\; overflow-wrap: break-word\; color: windowtext\;"><span lang="EN-US" style="margin: 0px\; padding: 0px\; border: 0px\; font-style: inherit\; font-variant-ligatures: none !important\; font-variant-caps: inherit\; font-variant-numeric: inherit\; font-variant-east-asian: inherit\; font-weight: inherit\; font-stretch: inherit\; font-size: 11pt\; line-height: 19.425px\; font-family: Times\, Times_EmbeddedFont\, Times_MSFontService\, &quot\;Times New Roman&quot\;\, serif\; vertical-align: baseline\; color: inherit\; user-select: text\; font-kerning: none\;"><span style="margin: 0px\; padding: 0px\; border: 0px\; font: inherit\; vertical-align: baseline\; color: inherit\; user-select: text\;">Kevin graduated from<span style="margin: 0px\; padding: 0px\; border: 0px\; font: inherit\; vertical-align: baseline\; color: inherit\;">&nbsp\;</span></span></span><span lang="EN-US" style="margin: 0px\; padding: 0px\; border: 0px\; font-style: inherit\; font-variant-ligatures: none !important\; font-variant-caps: inherit\; font-variant-numeric: inherit\; font-variant-east-asian: inherit\; font-weight: inherit\; font-stretch: inherit\; font-size: 11pt\; line-height: 19.425px\; font-family: Times\, Times_EmbeddedFont\, Times_MSFontService\, &quot\;Times New Roman&quot\;\, serif\; vertical-align: baseline\; color: inherit\; user-select: text\; font-kerning: none\;"><span style="margin: 0px\; padding: 0px\; border-width: 0px 0px 1px\; border-top-style: initial\; border-right-style: initial\; border-bottom-style: solid\; border-left-style: initial\; border-top-color: initial\; border-right-color: initial\; border-bottom-color: transparent\; border-left-color: initial\; border-image: initial\; font: inherit\; vertical-align: baseline\; color: inherit\; user-select: text\; background-repeat: repeat-x\; background-position: left bottom\;">Marietta</span></span><span lang="EN-US" style="margin: 0px\; padding: 0px\; border: 0px\; font-style: inherit\; font-variant-ligatures: none !important\; font-variant-caps: inherit\; font-variant-numeric: inherit\; font-variant-east-asian: inherit\; font-weight: inherit\; font-stretch: inherit\; font-size: 11pt\; line-height: 19.425px\; font-family: Times\, Times_EmbeddedFont\, Times_MSFontService\, &quot\;Times New Roman&quot\;\, serif\; vertical-align: baseline\; color: inherit\; user-select: text\; font-kerning: none\;"><span style="margin: 0px\; padding: 0px\; border: 0px\; font: inherit\; vertical-align: baseline\; color: inherit\; user-select: text\;"><span style="margin: 0px\; padding: 0px\; border: 0px\; font: inherit\; vertical-align: baseline\; color: inherit\;">&nbsp\;</span>College in 1998 with a Bachelor of Arts in Elementary Education and embarked on a lifelong career at various YMCAs from<span style="margin: 0px\; padding: 0px\; border: 0px\; font: inherit\; vertical-align: baseline\; color: inherit\;">&nbsp\;</span></span></span><span lang="EN-US" style="margin: 0px\; padding: 0px\; border: 0px\; font-style: inherit\; font-variant-ligatures: none !important\; font-variant-caps: inherit\; font-variant-numeric: inherit\; font-variant-east-asian: inherit\; font-weight: inherit\; font-stretch: inherit\; font-size: 11pt\; line-height: 19.425px\; font-family: Times\, Times_EmbeddedFont\, Times_MSFontService\, &quot\;Times New Roman&quot\;\, serif\; vertical-align: baseline\; color: inherit\; user-select: text\; font-kerning: none\;"><span style="margin: 0px\; padding: 0px\; border: 0px\; font: inherit\; vertical-align: baseline\; color: inherit\; user-select: text\;">Charleston\, West Virginia to<span style="margin: 0px\; padding: 0px\; border: 0px\; font: inherit\; vertical-align: baseline\; color: inherit\;">&nbsp\;</span></span></span><span lang="EN-US" style="margin: 0px\; padding: 0px\; border: 0px\; font-style: inherit\; font-variant-ligatures: none !important\; font-variant-caps: inherit\; font-variant-numeric: inherit\; font-variant-east-asian: inherit\; font-weight: inherit\; font-stretch: inherit\; font-size: 11pt\; line-height: 19.425px\; font-family: Times\, Times_EmbeddedFont\, Times_MSFontService\, &quot\;Times New Roman&quot\;\, serif\; vertical-align: baseline\; color: inherit\; user-select: text\; font-kerning: none\;"><span style="margin: 0px\; padding: 0px\; border: 0px\; font: inherit\; vertical-align: baseline\; color: inherit\; user-select: text\;">Bear\,&nbsp\;</span></span><span lang="EN-US" style="margin: 0px\; padding: 0px\; border: 0px\; font-style: inherit\; font-variant-ligatures: none !important\; font-variant-caps: inherit\; font-variant-numeric: inherit\; font-variant-east-asian: inherit\; font-weight: inherit\; font-stretch: inherit\; font-size: 11pt\; line-height: 19.425px\; font-family: Times\, Times_EmbeddedFont\, Times_MSFontService\, &quot\;Times New Roman&quot\;\, serif\; vertical-align: baseline\; color: inherit\; user-select: text\; font-kerning: none\;"><span style="margin: 0px\; padding: 0px\; border: 0px\; font: inherit\; vertical-align: baseline\; color: inherit\; user-select: text\;">Delaware before heading to Lowell in 2004<span style="margin: 0px\; padding: 0px\; border: 0px\; font: inherit\; vertical-align: baseline\; color: inherit\;">&nbsp\;</span></span></span><span lang="EN-US" style="margin: 0px\; padding: 0px\; border: 0px\; font-style: inherit\; font-variant-ligatures: none !important\; font-variant-caps: inherit\; font-variant-numeric: inherit\; font-variant-east-asian: inherit\; font-weight: inherit\; font-stretch: inherit\; font-size: 11pt\; line-height: 19.425px\; font-family: Times\, Times_EmbeddedFont\, Times_MSFontService\, &quot\;Times New Roman&quot\;\, serif\; vertical-align: baseline\; color: inherit\; user-select: text\; font-kerning: none\;"><span style="margin: 0px\; padding: 0px\; border: 0px\; font: inherit\; vertical-align: baseline\; color: inherit\; user-select: text\;">to become the&nbsp\;Senior Program Director-Child Care at the Greater Lowell Family YMCA. Since 2004\, he&rsquo\;s held various positions within the organization before landing the role as Chief Executive Officer in 2017.</span></span><span style="margin: 0px\; padding: 0px\; border: 0px\; font-style: inherit\; font-variant: inherit\; font-weight: inherit\; font-stretch: inherit\; font-size: 11pt\; line-height: 19.425px\; font-family: Times\, Times_EmbeddedFont\, Times_MSFontService\, &quot\;Times New Roman&quot\;\, serif\; vertical-align: baseline\; color: inherit\; user-select: text\;">&nbsp\;</span><br />\n&nbsp\;</p>\n</div>\n\n<div style="margin: 0px\; padding: 0px\; border: 0px\; font-variant-numeric: inherit\; font-variant-east-asian: inherit\; font-stretch: inherit\; font-size: 12px\; line-height: inherit\; font-family: &quot\;Segoe UI&quot\;\, &quot\;Segoe UI Web&quot\;\, Arial\, Verdana\, sans-serif\; vertical-align: baseline\; color: rgb(0\, 0\, 0)\; user-select: text\; cursor: text\; clear: both\;">\n<p lang="EN-US" style="margin: 0px\; user-select: text\; overflow-wrap: break-word\; color: windowtext\;"><span lang="EN-US" style="margin: 0px\; padding: 0px\; border: 0px\; font-style: inherit\; font-variant-ligatures: none !important\; font-variant-caps: inherit\; font-variant-numeric: inherit\; font-variant-east-asian: inherit\; font-weight: inherit\; font-stretch: inherit\; font-size: 11pt\; line-height: 19.425px\; font-family: Times\, Times_EmbeddedFont\, Times_MSFontService\, &quot\;Times New Roman&quot\;\, serif\; vertical-align: baseline\; color: inherit\; user-select: text\; font-kerning: none\;"><span style="margin: 0px\; padding: 0px\; border: 0px\; font: inherit\; vertical-align: baseline\; color: inherit\; user-select: text\;">Kevin sits on the board of the&nbsp\;</span></span><span lang="EN-US" style="margin: 0px\; padding: 0px\; border: 0px\; font-style: inherit\; font-variant-ligatures: none !important\; font-variant-caps: inherit\; font-variant-numeric: inherit\; font-variant-east-asian: inherit\; font-weight: inherit\; font-stretch: inherit\; font-size: 11pt\; line-height: 19.425px\; font-family: Times\, Times_EmbeddedFont\, Times_MSFontService\, &quot\;Times New Roman&quot\;\, serif\; vertical-align: baseline\; color: inherit\; user-select: text\; font-kerning: none\;"><span style="margin: 0px\; padding: 0px\; border: 0px\; font: inherit\; vertical-align: baseline\; color: inherit\; user-select: text\;">Department of Mental Health- Lowell Office</span></span><span lang="EN-US" style="margin: 0px\; padding: 0px\; border: 0px\; font-style: inherit\; font-variant-ligatures: none !important\; font-variant-caps: inherit\; font-variant-numeric: inherit\; font-variant-east-asian: inherit\; font-weight: inherit\; font-stretch: inherit\; font-size: 11pt\; line-height: 19.425px\; font-family: Times\, Times_EmbeddedFont\, Times_MSFontService\, &quot\;Times New Roman&quot\;\, serif\; vertical-align: baseline\; color: inherit\; user-select: text\; font-kerning: none\;"><span style="margin: 0px\; padding: 0px\; border: 0px\; font: inherit\; vertical-align: baseline\; color: inherit\; user-select: text\;"><span style="margin: 0px\; padding: 0px\; border: 0px\; font: inherit\; vertical-align: baseline\; color: inherit\;">&nbsp\;</span>and is an active m</span></span><span lang="EN-US" style="margin: 0px\; padding: 0px\; border: 0px\; font-style: inherit\; font-variant-ligatures: none !important\; font-variant-caps: inherit\; font-variant-numeric: inherit\; font-variant-east-asian: inherit\; font-weight: inherit\; font-stretch: inherit\; font-size: 11pt\; line-height: 19.425px\; font-family: Times\, Times_EmbeddedFont\, Times_MSFontService\, &quot\;Times New Roman&quot\;\, serif\; vertical-align: baseline\; color: inherit\; user-select: text\; font-kerning: none\;"><span style="margin: 0px\; padding: 0px\; border: 0px\; font: inherit\; vertical-align: baseline\; color: inherit\; user-select: text\;">ember of the Association of YMCA Professionals</span></span><span lang="EN-US" style="margin: 0px\; padding: 0px\; border: 0px\; font-style: inherit\; font-variant-ligatures: none !important\; font-variant-caps: inherit\; font-variant-numeric: inherit\; font-variant-east-asian: inherit\; font-weight: inherit\; font-stretch: inherit\; font-size: 11pt\; line-height: 19.425px\; font-family: Times\, Times_EmbeddedFont\, Times_MSFontService\, &quot\;Times New Roman&quot\;\, serif\; vertical-align: baseline\; color: inherit\; user-select: text\; font-kerning: none\;"><span style="margin: 0px\; padding: 0px\; border: 0px\; font: inherit\; vertical-align: baseline\; color: inherit\; user-select: text\;">.</span></span><span style="margin: 0px\; padding: 0px\; border: 0px\; font-style: inherit\; font-variant: inherit\; font-weight: inherit\; font-stretch: inherit\; font-size: 11pt\; line-height: 19.425px\; font-family: Times\, Times_EmbeddedFont\, Times_MSFontService\, &quot\;Times New Roman&quot\;\, serif\; vertical-align: baseline\; color: inherit\; user-select: text\;">&nbsp\;</span></p>\n\n<p lang="EN-US" style="margin: 0px\; user-select: text\; overflow-wrap: break-word\; color: windowtext\;">&nbsp\;</p>\n</div>\n\n<div style="margin: 0px\; padding: 0px\; border: 0px\; font-variant-numeric: inherit\; font-variant-east-asian: inherit\; font-stretch: inherit\; font-size: 12px\; line-height: inherit\; font-family: &quot\;Segoe UI&quot\;\, &quot\;Segoe UI Web&quot\;\, Arial\, Verdana\, sans-serif\; vertical-align: baseline\; color: rgb(0\, 0\, 0)\; user-select: text\; cursor: text\; clear: both\;">\n<p lang="EN-US" style="margin: 0px\; user-select: text\; overflow-wrap: break-word\; color: windowtext\;"><span lang="EN-US" style="margin: 0px\; padding: 0px\; border: 0px\; font-style: inherit\; font-variant-ligatures: none !important\; font-variant-caps: inherit\; font-variant-numeric: inherit\; font-variant-east-asian: inherit\; font-weight: inherit\; font-stretch: inherit\; font-size: 11pt\; line-height: 19.425px\; font-family: Times\, Times_EmbeddedFont\, Times_MSFontService\, &quot\;Times New Roman&quot\;\, serif\; vertical-align: baseline\; color: inherit\; user-select: text\; font-kerning: none\;"><span style="margin: 0px\; padding: 0px\; border: 0px\; font: inherit\; vertical-align: baseline\; color: inherit\; user-select: text\;">In addition to his passion for the Greater Lowell Family YMCA\, Kevin (or</span></span><span lang="EN-US" style="margin: 0px\; padding: 0px\; border: 0px\; font-style: inherit\; font-variant-ligatures: none !important\; font-variant-caps: inherit\; font-variant-numeric: inherit\; font-variant-east-asian: inherit\; font-weight: inherit\; font-stretch: inherit\; font-size: 11pt\; line-height: 19.425px\; font-family: Times\, Times_EmbeddedFont\, Times_MSFontService\, &quot\;Times New Roman&quot\;\, serif\; vertical-align: baseline\; color: inherit\; user-select: text\; font-kerning: none\;"><span style="margin: 0px\; padding: 0px\; border: 0px\; font: inherit\; vertical-align: baseline\; color: inherit\; user-select: text\;">i</span></span><span lang="EN-US" style="margin: 0px\; padding: 0px\; border: 0px\; font-style: inherit\; font-variant-ligatures: none !important\; font-variant-caps: inherit\; font-variant-numeric: inherit\; font-variant-east-asian: inherit\; font-weight: inherit\; font-stretch: inherit\; font-size: 11pt\; line-height: 19.425px\; font-family: Times\, Times_EmbeddedFont\, Times_MSFontService\, &quot\;Times New Roman&quot\;\, serif\; vertical-align: baseline\; color: inherit\; user-select: text\; font-kerning: none\;"><span style="margin: 0px\; padding: 0px\; border: 0px\; font: inherit\; vertical-align: baseline\; color: inherit\; user-select: text\;">ginally from Cleveland) has made Chelmsford his home thanks to marrying a<span style="margin: 0px\; padding: 0px\; border: 0px\; font: inherit\; vertical-align: baseline\; color: inherit\;">&nbsp\;</span></span></span><span lang="EN-US" style="margin: 0px\; padding: 0px\; border: 0px\; font-style: inherit\; font-variant-ligatures: none !important\; font-variant-caps: inherit\; font-variant-numeric: inherit\; font-variant-east-asian: inherit\; font-weight: inherit\; font-stretch: inherit\; font-size: 11pt\; line-height: 19.425px\; font-family: Times\, Times_EmbeddedFont\, Times_MSFontService\, &quot\;Times New Roman&quot\;\, serif\; vertical-align: baseline\; color: inherit\; user-select: text\; font-kerning: none\;"><span style="margin: 0px\; padding: 0px\; border: 0px\; font: inherit\; vertical-align: baseline\; color: inherit\; user-select: text\;">self-proclaimed proud Chelmsford Townie. Kevin and his wife\, Tara\, have a<span style="margin: 0px\; padding: 0px\; border: 0px\; font: inherit\; vertical-align: baseline\; color: inherit\;">&nbsp\;</span></span><span style="margin: 0px\; padding: 0px\; border-width: 0px 0px 1px\; border-top-style: initial\; border-right-style: initial\; border-bottom-style: solid\; border-left-style: initial\; border-top-color: initial\; border-right-color: initial\; border-bottom-color: transparent\; border-left-color: initial\; border-image: initial\; font: inherit\; vertical-align: baseline\; color: inherit\; user-select: text\; background-repeat: repeat-x\; background-position: left bottom\;">7-year-old</span><span style="margin: 0px\; padding: 0px\; border: 0px\; font: inherit\; vertical-align: baseline\; color: inherit\; user-select: text\;">\, Sydney.&nbsp\;</span></span><span lang="EN-US" style="margin: 0px\; padding: 0px\; border: 0px\; font-style: inherit\; font-variant-ligatures: none !important\; font-variant-caps: inherit\; font-variant-numeric: inherit\; font-variant-east-asian: inherit\; font-weight: inherit\; font-stretch: inherit\; font-size: 11pt\; line-height: 19.425px\; font-family: Times\, Times_EmbeddedFont\, Times_MSFontService\, &quot\;Times New Roman&quot\;\, serif\; vertical-align: baseline\; color: inherit\; user-select: text\; font-kerning: none\;"><span style="margin: 0px\; padding: 0px\; border: 0px\; font: inherit\; vertical-align: baseline\; color: inherit\; user-select: text\;">&nbsp\;</span></span><span style="margin: 0px\; padding: 0px\; border: 0px\; font-style: inherit\; font-variant: inherit\; font-weight: inherit\; font-stretch: inherit\; font-size: 11pt\; line-height: 19.425px\; font-family: Times\, Times_EmbeddedFont\, Times_MSFontService\, &quot\;Times New Roman&quot\;\, serif\; vertical-align: baseline\; color: inherit\; user-select: text\;">&nbsp\;</span></p>\n</div>\n\n<p style="font-size: medium\;"><span style="font-size: 14px\;"><font color="#000000" style="font-family: arial\;">Thank you to our&nbsp\;</font></span><span style="font-family: arial\; color: rgb(51\, 51\, 51)\; font-size: 14px\;">2020 Platinum Sponsors&nbsp\;Enterprise Bank\, Circle Health\, and Jeanne D&#39\;Arc Credit Union&nbsp\;for making events\, like this one\, possible.&nbsp\;</span></p>\n<span style="font-size:14px\;"><span style="font-family:arial\;">Thank you to Circle Health our 2020 Young Professionals sponsor.</span></span>
LOCATION:
UID:e.554.4564
SEQUENCE:3
DTSTAMP:20260419T141832Z
URL:https://business.greaterlowellcc.org/events/details/ceo-connect-kevin-morrissey-ceo-of-the-greater-lowell-family-ymca-4564
END:VEVENT

END:VCALENDAR
