BEGIN:VCALENDAR
VERSION:2.0
PRODID:-//ChamberMaster//Event Calendar 2.0//EN
METHOD:PUBLISH
X-PUBLISHED-TTL:P3D
REFRESH-INTERVAL:P3D
CALSCALE:GREGORIAN
BEGIN:VEVENT
DTSTART:20200602T150000Z
DTEND:20200602T160000Z
X-MICROSOFT-CDO-ALLDAYEVENT:FALSE
SUMMARY:CEO Connect: John Chemaly\, Trinity E.M.S
DESCRIPTION:We are taking our original Young Professionals CEO Roundtable Event and making it virtual! This is a great opportunity to connect with community leaders. Come hear their inspiring stories and ask them a question (or two)!\n\n\n\nThis session features John Chemaly\, Co-Owner & President of Trinity E.M.S.\n\n\n\nAs President and Co-founder of Trinity E.M.S.\, John is actively involved in day-to-day operations and community enrichment. With a strong commitment for community service\, John leads by example\, serving on numerous Boards and Committees throughout the Greater Merrimack Valley\, including the Massachusetts Ambulance Association\, Merrimack Valley Hospice House\, YMCA of Greater Lowell\, Big Brother and Big Sister of Haverhill\, Alzheimer's Association\, Yankee Clipper Council\, March of Dimes Walk\, Kidsfest in Haverhill\, Lowell Transitional Living Center and Merrimack Valley Food Bank. Born and raised in Tewksbury\, John is a graduate of Holy Cross.\nThank you to our 2020 Platinum Sponsors Enterprise Bank\, Circle Health\, and Jeanne D'Arc Credit Union for making events\, like this one\, possible. \nThank you to Circle Health our 2020 Young Professionals sponsor.
X-ALT-DESC;FMTTYPE=text/html:<span style="font-size:14px\;"><span style="font-family:arial\;">We are taking our original Young Professionals CEO Roundtable Event and making it virtual! This is a great opportunity to connect with community leaders. Come hear their inspiring stories and ask them a question (or two)!<br />\n<br />\nThis session features John Chemaly\, Co-Owner &amp\; President of <a href="https://trinityems.com/">Trinity E.M.S.</a></span></span><br />\n<br />\n<span style="color: rgb(85\, 85\, 85)\; font-family: Roboto\, sans-serif\; font-size: 14px\;">As President and Co-founder of Trinity E.M.S.\, John is actively involved in day-to-day operations and community enrichment. With a strong commitment for community service\, John leads by example\, serving on numerous Boards and Committees throughout the Greater Merrimack Valley\, including the Massachusetts Ambulance Association\, Merrimack Valley Hospice House\, YMCA of Greater Lowell\, Big Brother and Big Sister of Haverhill\, Alzheimer&rsquo\;s Association\, Yankee Clipper Council\, March of Dimes Walk\, Kidsfest in Haverhill\, Lowell Transitional Living Center and Merrimack Valley Food Bank. Born and raised in Tewksbury\, John is a graduate of Holy Cross.</span>\n<p style="font-family: Times\; font-size: medium\;"><span style="font-family: arial\; font-size: 14px\;"><font color="#000000">Thank you to our&nbsp\;</font></span><span style="color: rgb(51\, 51\, 51)\; font-family: arial\; font-size: 14px\;">2020 Platinum Sponsors&nbsp\;Enterprise Bank\, Circle Health\, and Jeanne D&#39\;Arc Credit Union&nbsp\;for making events\, like this one\, possible.&nbsp\;</span></p>\n<span style="font-size:14px\;"><span style="font-family:arial\;">Thank you to Circle Health our 2020 Young Professionals sponsor.</span></span>
LOCATION:
UID:e.554.4552
SEQUENCE:3
DTSTAMP:20260419T141043Z
URL:https://business.greaterlowellcc.org/events/details/ceo-connect-john-chemaly-trinity-e-m-s-4552
END:VEVENT

END:VCALENDAR
