BEGIN:VCALENDAR
VERSION:2.0
PRODID:-//ChamberMaster//Event Calendar 2.0//EN
METHOD:PUBLISH
X-PUBLISHED-TTL:P3D
REFRESH-INTERVAL:P3D
CALSCALE:GREGORIAN
BEGIN:VEVENT
DTSTART:20200526T140000Z
DTEND:20200526T150000Z
X-MICROSOFT-CDO-ALLDAYEVENT:FALSE
SUMMARY:CEO Connect: Jack Clancy\, Enterprise Bank
DESCRIPTION:We are taking our original Young Professionals CEO Roundtable Event and making it virtual! This is a great opportunity to connect with community leaders. Come hear their inspiring stories and ask them a question (or two)!\n\n\n\nThis session features Jack Clancy\, CEO of Enterprise Bank. \nJack Clancy has been the CEO of Enterprise Bank since January 1\, 2007. He joined Enterprise Bank as Chief Financial Officer and Treasurer in its formation stage in 1988. Enterprise Bank is headquartered in Lowell\, MA with 25 offices throughout the Merrimack Valley and North Central regions of MA\, and in Southern NH.\n\nJack holds numerous community board\, trustee\, and advisory positions which include: board trustee and chairperson of the finance committee at Circle Health and Lowell General Hospital\, member of the Wellforce finance committee\, member of the Lowell Plan board of directors and Executive committee\, chairperson of the board of directors of the Massachusetts Housing Partnership (MHP) and member of MHP's finance and compensation committees\, member of the New Hampshire Bankers Association board of directors\, and various affiliations with other organizations.\n\nJack received his bachelor's degree in Management/Accounting from the University of Massachusetts Lowell and completed the Advanced Management Program in General Leadership and Management at Harvard Business School.\n\nJack is a lifelong resident of the Greater Lowell area and has personal ties to the communities the bank serves.\n\nEnterprise Bank is a commercial bank and financial services company that is deeply rooted in the communities they serve. Founded 31.5 years ago\, Enterprise Bank has grown from a single office in Lowell\, to 25 branch offices in 20 communities throughout the Merrimack Valley\, Essex\, and North Central regions of Massachusetts and Southern New Hampshire. As a strong\, independent bank with deep roots in the community\, Enterprise Bank continues to invest in the local economy. In the last year alone\, employees contributed over 30\,000 hours volunteering in the towns and communities the bank serves\nEnterprise Bank is a 2020 Platinum Sponsor and we thank them for making events\, like this one\, possible. \n\n\n\nThank you to Circle Health our 2020 Young Professionals sponsor.
X-ALT-DESC;FMTTYPE=text/html:<span style="font-size:14px\;"><span style="font-family:arial\;">We are taking our original Young Professionals CEO Roundtable Event and making it virtual! This is a great opportunity to connect with community leaders. Come hear their inspiring stories and ask them a question (or two)!<br />\n<br />\nThis session features Jack Clancy\, CEO of <a href="https://www.enterprisebanking.com/">Enterprise Bank</a>.&nbsp\;</span></span>\n<p style="color: rgb(0\, 0\, 0)\; font-family: Times\; font-size: medium\;"><span style="font-size:14px\;"><span style="font-family:arial\;">Jack Clancy has been the CEO of Enterprise Bank since January 1\, 2007. He joined Enterprise Bank as Chief Financial Officer and Treasurer in its formation stage in 1988. Enterprise Bank is headquartered in Lowell\, MA with 25 offices throughout the Merrimack Valley and North Central regions of MA\, and in Southern NH.</span></span></p>\n\n<p style="color: rgb(0\, 0\, 0)\; font-family: Times\; font-size: medium\;"><span style="font-size:14px\;"><span style="font-family:arial\;">Jack holds numerous community board\, trustee\, and advisory positions which include: board trustee and chairperson of the finance committee at Circle Health and Lowell General Hospital\, member of the Wellforce finance committee\, member of the Lowell Plan board of directors and Executive committee\, chairperson of the board of directors of the Massachusetts Housing Partnership (MHP) and member of MHP&rsquo\;s finance and compensation committees\, member of the New Hampshire Bankers Association board of directors\, and various affiliations with other organizations.</span></span></p>\n\n<p style="color: rgb(0\, 0\, 0)\; font-family: Times\; font-size: medium\;"><span style="font-size:14px\;"><span style="font-family:arial\;">Jack received his bachelor&rsquo\;s degree in Management/Accounting from the University of Massachusetts Lowell and completed the Advanced Management Program in General Leadership and Management at Harvard Business School.</span></span></p>\n\n<p style="color: rgb(0\, 0\, 0)\; font-family: Times\; font-size: medium\;"><span style="font-size:14px\;"><span style="font-family:arial\;">Jack is a lifelong resident of the Greater Lowell area and has personal ties to the communities the bank serves.</span></span></p>\n\n<p style="color: rgb(0\, 0\, 0)\; font-family: Times\; font-size: medium\;"><span style="font-size:14px\;"><span style="font-family:arial\;">Enterprise Bank is a commercial bank and financial services company that is deeply rooted in the communities they serve. Founded 31.5 years ago\, Enterprise Bank has grown from a single office in Lowell\, to 25 branch offices in 20 communities throughout the Merrimack Valley\, Essex\, and North Central regions of Massachusetts and Southern New Hampshire. As a strong\, independent bank with deep roots in the community\, Enterprise Bank continues to invest in the local economy. In the last year alone\, employees contributed over 30\,000 hours volunteering in the towns and communities the bank serves</span></span></p>\n<span style="font-size:14px\;"><span style="font-family:arial\;">Enterprise Bank is a 2020 Platinum Sponsor and we thank them for making events\, like this one\, possible.&nbsp\;<br />\n<br />\nThank you to Circle Health our 2020 Young Professionals sponsor.</span></span>
LOCATION:
UID:e.554.4551
SEQUENCE:3
DTSTAMP:20260419T173514Z
URL:https://business.greaterlowellcc.org/events/details/ceo-connect-jack-clancy-enterprise-bank-4551
END:VEVENT

END:VCALENDAR
