BEGIN:VCALENDAR
VERSION:2.0
PRODID:-//ChamberMaster//Event Calendar 2.0//EN
METHOD:PUBLISH
X-PUBLISHED-TTL:P3D
REFRESH-INTERVAL:P3D
CALSCALE:GREGORIAN
BEGIN:VEVENT
DTSTART:20131015T160000Z
DTEND:20131015T173000Z
X-MICROSOFT-CDO-ALLDAYEVENT:FALSE
SUMMARY:Business Book Club
DESCRIPTION:Join us for our Business Book Club Meeting. This month's book is Mastering the Rockefeller Habits by Verne Harnish. There is no cost to be a part of our Business Book Club. You just have to buy (or borrow) the book of the month and pay for your lunch.\n\n\n\nPlease RSVP if you plan on attending. Guests are welcome. \n\n\n\nNext Meeting: December 11th. We'll be discussing the book Drive: The Surprising Truth About What Motivates Us by Daniel H. Pink
X-ALT-DESC;FMTTYPE=text/html:Join us for our Business Book Club Meeting. This month&rsquo\;s book is Mastering the Rockefeller Habits by Verne Harnish. There is no cost to be a part of our Business Book Club. You just have to buy (or borrow) the book of the month and pay for your lunch.<br />\n<br />\nPlease RSVP if you plan on attending. Guests are welcome.&nbsp\;<br />\n<br />\n<strong>Next Meeting: December 11th. We&#39\;ll be discussing the book Drive: The Surprising Truth About What Motivates Us by Daniel H. Pink</strong><br />\n<br />\n<br />\n
LOCATION:Owen & Ollie's Restaurant & Pub 91 Mill Street Dracut MA
UID:e.554.963
SEQUENCE:3
DTSTAMP:20260422T134914Z
URL:https://business.greaterlowellcc.org/events/details/business-book-club-10-15-2013-963
END:VEVENT

END:VCALENDAR
