BEGIN:VCALENDAR
VERSION:2.0
PRODID:-//ChamberMaster//Event Calendar 2.0//EN
METHOD:PUBLISH
X-PUBLISHED-TTL:P3D
REFRESH-INTERVAL:P3D
CALSCALE:GREGORIAN
BEGIN:VEVENT
DTSTART:20130905T160000Z
DTEND:20130905T173000Z
X-MICROSOFT-CDO-ALLDAYEVENT:FALSE
SUMMARY:Business Book Club
DESCRIPTION:Join us for our 2nd Business Book Club meeting! This month's book is Outliers by Malcolm Gladwell. There is no cost to be a part of our Business Book Club. You just have to buy (or borrow) the book of the month and pay for your lunch. \n\n\n\nPlease RSVP if you plan on attending.
X-ALT-DESC;FMTTYPE=text/html:Join us for our 2nd Business Book Club meeting! This month&#39\;s book is <u>Outliers</u> by Malcolm Gladwell. There is no cost to be a part of our Business Book Club. You just have to buy (or borrow) the book of the month and pay for your lunch.&nbsp\;<br />\n<br />\nPlease RSVP if you plan on attending.
LOCATION:Heritage Farm Ice Cream and Restaurant 163 Pawtucket Blvd. Lowell\, MA 01854
UID:e.554.954
SEQUENCE:3
DTSTAMP:20260422T134611Z
URL:https://business.greaterlowellcc.org/events/details/business-book-club-09-05-2013-954
END:VEVENT

END:VCALENDAR
