BEGIN:VCALENDAR
VERSION:2.0
PRODID:-//ChamberMaster//Event Calendar 2.0//EN
METHOD:PUBLISH
X-PUBLISHED-TTL:P3D
REFRESH-INTERVAL:P3D
CALSCALE:GREGORIAN
BEGIN:VEVENT
DTSTART:20200507T150000Z
DTEND:20200507T163000Z
X-MICROSOFT-CDO-ALLDAYEVENT:FALSE
SUMMARY:Be Your Best Ambassador. Promoting Yourself and Your Brand
DESCRIPTION:Thinking of Starting a Business? Be Your Best Brand Ambassador. \n\nHave you been laid off? Are you on furlough? Have you considered starting a small business? \n\nLearn how to be your best brand ambassador. Take all of your talents and skills and package them\, so you get noticed.  Don't let overwhelm stand in your way. See what you need to build a brand. (That's you). And promote it. \n\nThere's a silver lining in every crisis. Shift your thinking and get back on track. There's no better time than now to plan for your future. \n\nPS: Already in business? This webinar will still help you stay focused and give you actionable tips to reboot your brand.    \n\nPresenter: Robin Samora is a marketing / PR expert who helps small and mid-size businesses increasesales\, connect with customers\, and gain media exposure. Whether it's writing customizedmarketing plans for clients or working 1-2-1 to meet their goals\, her focus is clear   to getresults. She writes a Top 40 Small Business Marketing Blog\, Robin's Rainmakers\, and hosts adaily marketing podcast\, the Fast Marketing Minute\, sharing bite-sized marketing advice.
X-ALT-DESC;FMTTYPE=text/html:<p style="margin: 0px 0px 18px\; padding: 0px\; font-family: Arial\, Helvetica\, sans-serif\; font-size: 12px\; background-color: rgb(246\, 246\, 246)\;"><span style="font-size: 12pt\;" title=""><strong><i>Thinking of Starting a Business? Be Your Best Brand Ambassador.&nbsp\;</i></strong></span></p>\n\n<p style="margin: 0px 0px 18px\; padding: 0px\; font-family: Arial\, Helvetica\, sans-serif\; font-size: 12px\; background-color: rgb(246\, 246\, 246)\;"><span style="font-size: 12pt\;" title=""><strong><i>Have you been laid off? Are you on furlough? Have you considered starting a small business?&nbsp\;</i></strong></span></p>\n\n<p style="margin: 0px 0px 18px\; padding: 0px\; font-family: Arial\, Helvetica\, sans-serif\; font-size: 12px\; background-color: rgb(246\, 246\, 246)\;"><span style="font-size: 12pt\; color: rgb(0\, 0\, 128)\;" title=""><strong><i>Learn how to be your best brand ambassador. Take all of your talents and skills and package them\, so you get noticed.&nbsp\; Don&rsquo\;t let overwhelm stand in your way. See what you need to build a brand. (That&rsquo\;s you). And promote it.&nbsp\;</i></strong></span></p>\n\n<p style="margin: 0px 0px 18px\; padding: 0px\; font-family: Arial\, Helvetica\, sans-serif\; font-size: 12px\; background-color: rgb(246\, 246\, 246)\;"><span style="font-size: 12pt\;" title=""><strong><i>There&rsquo\;s a silver lining in every crisis. Shift your thinking and get back on track. There&rsquo\;s no better time than now to plan for your future.&nbsp\;</i></strong></span></p>\n\n<p style="margin: 0px 0px 18px\; padding: 0px\; font-family: Arial\, Helvetica\, sans-serif\; font-size: 12px\; background-color: rgb(246\, 246\, 246)\;"><span style="font-size: 12pt\;" title=""><strong><i>PS:&nbsp\;<span style="color: rgb(0\, 128\, 0)\;" title="">Already in business?</span>&nbsp\;This webinar will still help you stay focused and give you actionable tips to reboot your brand.&nbsp\; &nbsp\;&nbsp\;</i></strong></span></p>\n\n<p style="margin: 0px 0px 18px\; padding: 0px\; font-family: Arial\, Helvetica\, sans-serif\; font-size: 12px\; background-color: rgb(246\, 246\, 246)\;"><span style="font-size: 12pt\;" title=""><i>Presenter:&nbsp\;Robin Samora is a marketing / PR expert who helps small and mid-size businesses increasesales\, connect with customers\, and gain media exposure. Whether it&rsquo\;s writing customizedmarketing plans for clients or working 1-2-1 to meet their goals\, her focus is clear &ndash\; to getresults. She writes a Top 40 Small Business Marketing Blog\, Robin&rsquo\;s Rainmakers\, and hosts adaily marketing podcast\, the Fast Marketing Minute\, sharing bite-sized marketing advice.</i></span></p>\n
LOCATION:
UID:e.554.4512
SEQUENCE:3
DTSTAMP:20260419T175134Z
URL:https://business.greaterlowellcc.org/events/details/be-your-best-ambassador-promoting-yourself-and-your-brand-4512
END:VEVENT

END:VCALENDAR
