BEGIN:VCALENDAR
VERSION:2.0
PRODID:-//ChamberMaster//Event Calendar 2.0//EN
METHOD:PUBLISH
X-PUBLISHED-TTL:P3D
REFRESH-INTERVAL:P3D
CALSCALE:GREGORIAN
BEGIN:VEVENT
DTSTART:20200512T160000Z
DTEND:20200512T170000Z
X-MICROSOFT-CDO-ALLDAYEVENT:FALSE
SUMMARY:Bankruptcy and Bankruptcy Avoidance: Alternatives for Small Businesses
DESCRIPTION:Many small businesses will struggle to emerge from this crisis without needing to renegotiate or restructure leases\, loans\, and other obligations. Some will be able to make out-of-court arrangements with landlords\, lenders\, and other creditors. Some will need to reorganize under bankruptcy. This session will provide overviews of bankruptcy avoidance through out-of-court renegotiation and bankruptcy under the new Small Business Reorganization Act (new Subchapter V of Chapter 11). Chapter 7 liquidations will also be covered.\n\n\n\nGlen Secor of the Law Office of Glen M. Secor PLLC is an experienced business attorney and a former CFO. His practice includes business transactions\, tax\, and bankruptcy. His office is in Westford and his website is www.glensecor.com.
X-ALT-DESC;FMTTYPE=text/html:<span style="color: rgb(50\, 49\, 48)\; font-family: verdana\; font-size: 12px\;">Many small businesses will struggle to emerge from this crisis without needing to renegotiate or restructure leases\, loans\, and other obligations. Some will be able to make out-of-court arrangements with landlords\, lenders\, and other creditors. Some will need to reorganize under bankruptcy. This session will provide overviews of bankruptcy avoidance through out-of-court renegotiation and bankruptcy under the new Small Business Reorganization Act (new Subchapter V of Chapter 11). Chapter 7 liquidations will also be covered.</span><br style="color: rgb(50\, 49\, 48)\; font-family: verdana\; font-size: 12px\;" />\n<br style="color: rgb(50\, 49\, 48)\; font-family: verdana\; font-size: 12px\;" />\n<span style="color: rgb(50\, 49\, 48)\; font-family: verdana\; font-size: 12px\;">Glen Secor of the Law Office of Glen M. Secor PLLC is an experienced business attorney and a former CFO. His practice includes business transactions\, tax\, and bankruptcy. His office is in Westford and his website is&nbsp\;</span><a data-auth="NotApplicable" href="http://www.glensecor.com/" rel="noopener noreferrer" style="margin: 0px\; padding: 0px\; border: 0px\; font-variant-numeric: inherit\; font-variant-east-asian: inherit\; font-stretch: inherit\; font-size: 12px\; line-height: inherit\; font-family: verdana\; vertical-align: baseline\;" target="_blank">www.glensecor.com</a><span style="color: rgb(50\, 49\, 48)\; font-family: verdana\; font-size: 12px\;">.</span>
LOCATION:
UID:e.554.4529
SEQUENCE:3
DTSTAMP:20260419T175030Z
URL:https://business.greaterlowellcc.org/events/details/bankruptcy-and-bankruptcy-avoidance-alternatives-for-small-businesses-4529
END:VEVENT

END:VCALENDAR
