BEGIN:VCALENDAR
VERSION:2.0
PRODID:-//ChamberMaster//Event Calendar 2.0//EN
METHOD:PUBLISH
X-PUBLISHED-TTL:P3D
REFRESH-INTERVAL:P3D
CALSCALE:GREGORIAN
BEGIN:VEVENT
DTSTART:20131203T123000Z
DTEND:20131203T140000Z
X-MICROSOFT-CDO-ALLDAYEVENT:FALSE
SUMMARY:19th Annual Membership Breakfast
DESCRIPTION:Join us at our 19th Annual Meeting for the 3rd Annual Trinity EMS YouTube Video Awards!\n\n\n\nClick here to vote for your favorite YouTube Video! http://bit.ly/1dwCV1s\n\n\n\nThank you to our sponsors\, including:\n\nTrinity EMS\n\nEastern Bank\n\nSage Bank\n\nEnterprise Bank\n\nLowell General Hospital\n\nWashington Savings Bank\n\nMarcotte Law Firm\n\nJeanne D'Arc Credit Union\n\nAnstiss & Co.\n\nMerrimack Valley Economic Development Council\n\n\n\nDoors open at 7:15 am and the program will begin promptly at 7:45 am.\n\nthe price is $40 per person\n\n\n\nWyndham Boston Andover Hotel\n\n123 Old River Road\n\nAndover\, MA  01801
X-ALT-DESC;FMTTYPE=text/html:Join us at our 19th Annual Meeting for the 3rd Annual Trinity EMS YouTube Video Awards!<br />\n<br />\nClick here to vote for your favorite YouTube Video! http://bit.ly/1dwCV1s<br />\n<br />\nThank you to our sponsors\, including:<br />\nTrinity EMS<br />\nEastern Bank<br />\nSage Bank<br />\nEnterprise Bank<br />\nLowell General Hospital<br />\nWashington Savings Bank<br />\nMarcotte Law Firm<br />\nJeanne D&#39\;Arc&nbsp\;Credit Union<br />\nAnstiss &amp\; Co.<br />\nMerrimack Valley Economic Development Council<br />\n<br />\nDoors open at 7:15 am and the program will begin promptly at 7:45 am.<br />\nthe price is $40 per person<br />\n<br />\nWyndham Boston Andover Hotel<br />\n123 Old River Road<br />\nAndover\, MA&nbsp\; 01801
LOCATION:Wyndham Boston Andover Hotel 123 Old River Road Andover\, MA 01801
UID:e.554.976
SEQUENCE:3
DTSTAMP:20260422T113801Z
URL:https://business.greaterlowellcc.org/events/details/19th-annual-membership-breakfast-12-03-2013-976
END:VEVENT

END:VCALENDAR
